BEGIN:VCALENDAR
VERSION:2.0
PRODID:-//Oeste Audiovisual - ECPv6.15.17.1//NONSGML v1.0//EN
CALSCALE:GREGORIAN
METHOD:PUBLISH
X-ORIGINAL-URL:https://cineeneloeste.com
X-WR-CALDESC:Eventos para Oeste Audiovisual
REFRESH-INTERVAL;VALUE=DURATION:PT1H
X-Robots-Tag:noindex
X-PUBLISHED-TTL:PT1H
BEGIN:VTIMEZONE
TZID:America/Argentina/Buenos_Aires
BEGIN:STANDARD
TZOFFSETFROM:-0300
TZOFFSETTO:-0300
TZNAME:-03
DTSTART:20250101T000000
END:STANDARD
END:VTIMEZONE
BEGIN:VEVENT
DTSTART;TZID=America/Argentina/Buenos_Aires:20260425T180000
DTEND;TZID=America/Argentina/Buenos_Aires:20260425T203000
DTSTAMP:20260422T075054
CREATED:20260414T141056Z
LAST-MODIFIED:20260414T141056Z
UID:6321-1777140000-1777149000@cineeneloeste.com
SUMMARY:Belmonte
DESCRIPTION:Toca la imagen para ver el trailer\nFederico Veiroj | 2018 | Uruguay | Ficción | 75 minutos\nA Belmonte\, interesado en retratar al ser humano\, sus pliegues\, su desmesura\, se le acerca una muestra de pintura en el Museo de Artes Visuales de Montevideo\, pero él está más ocupado pensando en los cambios que vive su familia: su ex mujer está embarazada\, fruto de la relación que mantiene con otro hombre\, y percibe que su hija\, Celeste\, pasará menos tiempo con él cuando nazca su hermano. Belmonte necesita la brújula que le supone estar con su hija\, preparar su almuerzo\, acompañarla a la escuela y\, sobre todo\, comenzar a compartir con ella su mundo interior sin esconder las preocupaciones\, aunque sean propias de un adulto. \nCompártelo:\n				Compartir en X (Se abre en una ventana nueva)\n				X\n			\n				Comparte en Facebook (Se abre en una ventana nueva)\n				Facebook\n			Me gusta esto:Me gusta Cargando...
URL:https://cineeneloeste.com/event/belmonte/
LOCATION:Colectivo Nuevo Amanecer\, Pje. Central 12\, 12800 Montevideo\, Departamento de Montevideo\, Montevideo\, Montevideo\, Casabó\, 12800\, Uruguay
CATEGORIES:programacion 2026,Puntos de Cine
ATTACH;FMTTYPE=image/jpeg:https://cineeneloeste.com/wp-content/uploads/2026/04/BELMONTE-STILL3-1050x631-1.jpg
END:VEVENT
END:VCALENDAR