BEGIN:VCALENDAR
VERSION:2.0
PRODID:-//Oeste Audiovisual - ECPv6.15.17.1//NONSGML v1.0//EN
CALSCALE:GREGORIAN
METHOD:PUBLISH
X-ORIGINAL-URL:https://cineeneloeste.com
X-WR-CALDESC:Eventos para Oeste Audiovisual
REFRESH-INTERVAL;VALUE=DURATION:PT1H
X-Robots-Tag:noindex
X-PUBLISHED-TTL:PT1H
BEGIN:VTIMEZONE
TZID:America/Argentina/Buenos_Aires
BEGIN:STANDARD
TZOFFSETFROM:-0300
TZOFFSETTO:-0300
TZNAME:-03
DTSTART:20250101T000000
END:STANDARD
END:VTIMEZONE
BEGIN:VEVENT
DTSTART;TZID=America/Argentina/Buenos_Aires:20260319T200000
DTEND;TZID=America/Argentina/Buenos_Aires:20260319T210000
DTSTAMP:20260423T053840
CREATED:20260318T223346Z
LAST-MODIFIED:20260318T223346Z
UID:5925-1773950400-1773954000@cineeneloeste.com
SUMMARY:Desobedientes Serie\, Capitulo 7 - Maternidades Diversas
DESCRIPTION:Compártelo:\n				Compartir en X (Se abre en una ventana nueva)\n				X\n			\n				Comparte en Facebook (Se abre en una ventana nueva)\n				Facebook\n			Me gusta esto:Me gusta Cargando...
URL:https://cineeneloeste.com/event/desobedientes-serie-capitulo-7-maternidades-diversas/
LOCATION:Centro Cultural Florencio Sánchez\, Grecia 3281\, Montevideo\, Montevideo\, Cerro\, 12800\, Uruguay
CATEGORIES:programacion 2026,Realizadoras
ATTACH;FMTTYPE=image/png:https://cineeneloeste.com/wp-content/uploads/2026/02/scc_programacion_web-banner.png
END:VEVENT
END:VCALENDAR