BEGIN:VCALENDAR
VERSION:2.0
PRODID:-//Oeste Audiovisual - ECPv6.15.17.1//NONSGML v1.0//EN
CALSCALE:GREGORIAN
METHOD:PUBLISH
X-WR-CALNAME:Oeste Audiovisual
X-ORIGINAL-URL:https://cineeneloeste.com
X-WR-CALDESC:Eventos para Oeste Audiovisual
REFRESH-INTERVAL;VALUE=DURATION:PT1H
X-Robots-Tag:noindex
X-PUBLISHED-TTL:PT1H
BEGIN:VTIMEZONE
TZID:America/Argentina/Buenos_Aires
BEGIN:STANDARD
TZOFFSETFROM:-0300
TZOFFSETTO:-0300
TZNAME:-03
DTSTART:20250101T000000
END:STANDARD
END:VTIMEZONE
BEGIN:VEVENT
DTSTART;TZID=America/Argentina/Buenos_Aires:20260324T080000
DTEND;TZID=America/Argentina/Buenos_Aires:20260324T170000
DTSTAMP:20260425T073703
CREATED:20260324T201958Z
LAST-MODIFIED:20260324T201958Z
UID:6060-1774339200-1774371600@cineeneloeste.com
SUMMARY:Desobedientes\, 2 capítulos
DESCRIPTION:Desobedientes | Dina Yael · 2025 · Uruguay | documental | 2 ep. · 45 min \n«Desobedientes» es una serie documental que en ocho capítulos busca desentrañar más de un siglo de revoluciones cotidianas en Uruguay. Desde las obreras textiles de Juan Lacaze\, que a principios del siglo XX alzaron su voz por condiciones dignas; la militancia de las sufragistas; las feministas de principios de siglo XX\, también las de la transición democrática; las que plantaron cara a la dictadura; las militantes de causas justas que atraviesan el tiempo; las personas disidentes y su realidad; las que reivindican el derecho al placer y la autonomía corporal… La serie busca retratar el espíritu de mujeres y disidencias que se atrevieron a desafiar lo establecido\, tejiendo nuevos caminos hacia la igualdad. Sus historias\, aparentemente pequeñas\, pero profundamente desobedientes\, no solo cuestionan los mandatos sociales\, también redefinen el tejido mismo de la sociedad uruguaya. Para la serie entrevistamos cerca de cien mujeres y disidencias. El equipo técnico también estuvo conformado en su mayoría por mujeres y disidencias. \nCompártelo:\n				Compartir en X (Se abre en una ventana nueva)\n				X\n			\n				Comparte en Facebook (Se abre en una ventana nueva)\n				Facebook\n			Me gusta esto:Me gusta Cargando...
URL:https://cineeneloeste.com/event/desobedientes-2-capitulos/
LOCATION:Centro Cultural Casa Pueblo\, Tamanduá 424\, Stgo. Vazquez\, Montevideo\, Santiago Vázquez\, 12600\, Uruguay
CATEGORIES:programacion 2026,Realizadoras
ATTACH;FMTTYPE=image/png:https://cineeneloeste.com/wp-content/uploads/2026/03/desobedientes-.png
END:VEVENT
BEGIN:VEVENT
DTSTART;TZID=America/Argentina/Buenos_Aires:20260326T200000
DTEND;TZID=America/Argentina/Buenos_Aires:20260326T220000
DTSTAMP:20260425T073703
CREATED:20260323T183840Z
LAST-MODIFIED:20260325T194427Z
UID:6010-1774555200-1774562400@cineeneloeste.com
SUMMARY:Estreno "Chacra" de Ernesto Gilman
DESCRIPTION:Ernesto Gillman | 2026 | Uruguay | Documental | 70 minutos      \nEn la chacra nacen\, se reproducen y mueren\, plantas y animales. Juan y Olga producen tomates\, leche\, morrones\, queso\, carne. Chacra es una película documental que retrata el trabajo transformador de estas personas en su entorno y el amor que los une. Desde la historia de amor\, la película aproxima a su espectador a la unidad en el círculo de la vida que implica el sacrificio del animal o la planta como alimento\, una unidad fracturada en nuestra cultura moderna\, cada vez más alejada de los ritmos y procesos de la naturaleza. Chacra contempla ese ciclo con una considerable poesía visual y sonora\, cuestionando el lugar que ocupamos los seres humanos en la cultura del hacer chacarero\, esa que se extingue irremediablemente. Con un ritmo contemplativo\, la película invita a entrar en el tiempo del campo. El tiempo de los procesos necesarios para que la tierra produzca\, pero también para las conversaciones alrededor de los trabajos\, los problemas y las soluciones\, para la camaradería de los hombres en torno a la producción y\, por qué no\, la violencia de la ley natural que lleva a matar para comer. El ciclo del nacimiento\, vida y muerte se renueva\, indetenible. A medida que la vida moderna nos separa de los procesos más básicos\, como el de la alimentación\, adentrarnos en la vida de una chacra nos devuelve a la realidad. Un espacio que no está libre de esas mismas tensiones de la modernización\, a partir de que la producción se tecnifica\, pero que conserva su esencia \nCompártelo:\n				Compartir en X (Se abre en una ventana nueva)\n				X\n			\n				Comparte en Facebook (Se abre en una ventana nueva)\n				Facebook\n			Me gusta esto:Me gusta Cargando...
URL:https://cineeneloeste.com/event/estreno-chacra-de-ernesto-gilman/
LOCATION:Centro Cultural Florencio Sánchez\, Grecia 3281\, Montevideo\, Montevideo\, Cerro\, 12800\, Uruguay
CATEGORIES:programacion 2026
ATTACH;FMTTYPE=image/png:https://cineeneloeste.com/wp-content/uploads/2026/03/Chacra_45618.png
END:VEVENT
BEGIN:VEVENT
DTSTART;TZID=America/Argentina/Buenos_Aires:20260327T193000
DTEND;TZID=America/Argentina/Buenos_Aires:20260327T213000
DTSTAMP:20260425T073703
CREATED:20260324T200026Z
LAST-MODIFIED:20260324T200026Z
UID:6053-1774639800-1774647000@cineeneloeste.com
SUMMARY:Desobedientes
DESCRIPTION:Desobedientes | Dina Yael · 2025 · Uruguay | documental | 2 ep. · 45 min \n«Desobedientes» es una serie documental que en ocho capítulos busca mentaldesentrañar más de un siglo de revoluciones cotidianas en Uruguay. Desde las obreras textiles de Juan Lacaze\, que a principios del siglo XX alzaron su voz por condiciones dignas; la militancia de las sufragistas; las feministas de principios de siglo XX\, también las de la transición democrática; las que plantaron cara a la dictadura; las militantes de causas justas que atraviesan el tiempo; las personas disidentes y su realidad; las que reivindican el derecho al placer y la autonomía corporal… La serie busca retratar el espíritu de mujeres y disidencias que se atrevieron a desafiar lo establecido\, tejiendo nuevos caminos hacia la igualdad. Sus historias\, aparentemente pequeñas\, pero profundamente desobedientes\, no solo cuestionan los mandatos sociales\, también redefinen el tejido mismo de la sociedad uruguaya. Para la serie entrevistamos cerca de cien mujeres y disidencias. El equipo técnico también estuvo conformado en su mayoría por mujeres y disidencias. \nCompártelo:\n				Compartir en X (Se abre en una ventana nueva)\n				X\n			\n				Comparte en Facebook (Se abre en una ventana nueva)\n				Facebook\n			Me gusta esto:Me gusta Cargando...
URL:https://cineeneloeste.com/event/desobedientes/
LOCATION:Centro Cultural Mercado Victoria\, Av. Carlos María Ramírez 900\, Montevideo\, Montevideo\, La Teja\, 11900\, Uruguay
CATEGORIES:programacion 2026,Realizadoras
ATTACH;FMTTYPE=image/webp:https://cineeneloeste.com/wp-content/uploads/2026/03/imgs.elpais.com_.webp
END:VEVENT
BEGIN:VEVENT
DTSTART;TZID=America/Argentina/Buenos_Aires:20260328T190000
DTEND;TZID=America/Argentina/Buenos_Aires:20260328T210000
DTSTAMP:20260425T073703
CREATED:20260324T203235Z
LAST-MODIFIED:20260324T203357Z
UID:6071-1774724400-1774731600@cineeneloeste.com
SUMMARY:Desobedientes\, 2 capítulos
DESCRIPTION:Desobedientes | Dina Yael · 2025 · Uruguay | documental | 2 ep. · 45 min \n«Desobedientes» es una serie documental que en ocho capítulos busca desentrañar más de un siglo de revoluciones cotidianas en Uruguay. Desde las obreras textiles de Juan Lacaze\, que a principios del siglo XX alzaron su voz por condiciones dignas; la militancia de las sufragistas; las feministas de principios de siglo XX\, también las de la transición democrática; las que plantaron cara a la dictadura; las militantes de causas justas que atraviesan el tiempo; las personas disidentes y su realidad; las que reivindican el derecho al placer y la autonomía corporal… La serie busca retratar el espíritu de mujeres y disidencias que se atrevieron a desafiar lo establecido\, tejiendo nuevos caminos hacia la igualdad. Sus historias\, aparentemente pequeñas\, pero profundamente desobedientes\, no solo cuestionan los mandatos sociales\, también redefinen el tejido mismo de la sociedad uruguaya. Para la serie entrevistamos cerca de cien mujeres y disidencias. El equipo técnico también estuvo conformado en su mayoría por mujeres y disidencias.cu \nCompártelo:\n				Compartir en X (Se abre en una ventana nueva)\n				X\n			\n				Comparte en Facebook (Se abre en una ventana nueva)\n				Facebook\n			Me gusta esto:Me gusta Cargando...
URL:https://cineeneloeste.com/event/desobedientes-2-capitulos-2/
LOCATION:Centro Cultural Casa Pueblo\, Tamanduá 424\, Stgo. Vazquez\, Montevideo\, Santiago Vázquez\, 12600\, Uruguay
CATEGORIES:programacion 2026,Realizadoras
ATTACH;FMTTYPE=image/png:https://cineeneloeste.com/wp-content/uploads/2026/03/desobedientes-.png
END:VEVENT
END:VCALENDAR