BEGIN:VCALENDAR
VERSION:2.0
PRODID:-//Oeste Audiovisual - ECPv6.15.17.1//NONSGML v1.0//EN
CALSCALE:GREGORIAN
METHOD:PUBLISH
X-ORIGINAL-URL:https://cineeneloeste.com
X-WR-CALDESC:Eventos para Oeste Audiovisual
REFRESH-INTERVAL;VALUE=DURATION:PT1H
X-Robots-Tag:noindex
X-PUBLISHED-TTL:PT1H
BEGIN:VTIMEZONE
TZID:America/Argentina/Buenos_Aires
BEGIN:STANDARD
TZOFFSETFROM:-0300
TZOFFSETTO:-0300
TZNAME:-03
DTSTART:20250101T000000
END:STANDARD
END:VTIMEZONE
BEGIN:VEVENT
DTSTART;TZID=America/Argentina/Buenos_Aires:20260417T193000
DTEND;TZID=America/Argentina/Buenos_Aires:20260417T213000
DTSTAMP:20260424T055704
CREATED:20260408T144419Z
LAST-MODIFIED:20260408T144741Z
UID:6237-1776454200-1776461400@cineeneloeste.com
SUMMARY:Quemadura China
DESCRIPTION:Toca la imagen para ver el trailer\nVerónica Perrotta | 2025 | Uruguay | Ficción | 76 minutos \nLos siameses Annie y Dani se enfrentan a la separación física\, en un acto tan quirúrgico como existencial. Willie\, el hermano que los opera\, confiesa su deseo de ser siamés y pide coserse a uno de ellos. Las tensiones y obsesiones del elenco se van enredando con la ficción fantástica. Mientras\, la locación principal amenaza con derrumbarse. \nCompártelo:\n				Compartir en X (Se abre en una ventana nueva)\n				X\n			\n				Comparte en Facebook (Se abre en una ventana nueva)\n				Facebook\n			Me gusta esto:Me gusta Cargando...
URL:https://cineeneloeste.com/event/quemadura-china/
LOCATION:Centro Cultural Casa de laPólvora\, Centro Cultural Casa de la Pólvora · Casabó Bulgaria 4064\, Montevideo\, Montevideo\, Casabó\, 12800\, Uruguay
CATEGORIES:programacion 2026,Realizadoras
ATTACH;FMTTYPE=image/jpeg:https://cineeneloeste.com/wp-content/uploads/2026/04/Quemadura-China-2025-STILL-02-1.jpg
END:VEVENT
END:VCALENDAR